BEGIN:VCALENDAR
VERSION:2.0
PRODID:EVENTFROG//EVENT//ICAL
BEGIN:VEVENT
UID:20260424T095544Z-7452115919608757238@eventfrog.de
DTSTAMP:20260424T095544Z
DTSTART:20260504T081500Z
SUMMARY:Reim und Spiel
DESCRIPTION:Mit Leseanimatorin Marianne Wäspe.\n\nhttps://eventfrog.de/de/p/diverses/reim-und-spiel-7452115919608757238.html
LOCATION:Stadtbibliothek
GEO:47.415188;9.252704
URL:https://eventfrog.de/de/p/diverses/reim-und-spiel-7452115919608757238.html
END:VEVENT
END:VCALENDAR