BEGIN:VCALENDAR
VERSION:2.0
PRODID:EVENTFROG//EVENT//ICAL
BEGIN:VEVENT
UID:20260424T110035Z-7452115920665721857@eventfrog.de
DTSTAMP:20260424T110035Z
DTSTART:20260508T123000Z
SUMMARY:Café TrotzDem Wil
DESCRIPTION:Treffpunkt für Menschen mit Demenz und ihre Angehörigen.\n\nhttps://eventfrog.de/de/p/diverses/cafe-trotzdem-wil-7452115920665721857.html
LOCATION:Kafi Peter, Pfarreizentrum
GEO:47.463925;9.043746
URL:https://eventfrog.de/de/p/diverses/cafe-trotzdem-wil-7452115920665721857.html
END:VEVENT
END:VCALENDAR