BEGIN:VCALENDAR
VERSION:2.0
PRODID:EVENTFROG//EVENT//ICAL
BEGIN:VEVENT
UID:20260424T074718Z-7452211839461522223@eventfrog.de
DTSTAMP:20260424T074718Z
DTSTART:20260808T174500Z
DTEND:20260808T215900Z
SUMMARY:Kreuzlinger Seenachtsfest
DESCRIPTION:Erleben Sie das spektakuläre Feuerwerk auf unserem Schiff.\n\n\nhttps://eventfrog.de/de/p/essen-trinken/kreuzlinger-seenachtsfest-7452211839461522223.html
LOCATION:Schweizerische Bodensee-Schifffahrt AG
GEO:47.564596;9.380165
URL:https://eventfrog.de/de/p/essen-trinken/kreuzlinger-seenachtsfest-7452211839461522223.html
END:VEVENT
END:VCALENDAR