BEGIN:VCALENDAR
VERSION:2.0
PRODID:EVENTFROG//EVENT//ICAL
BEGIN:VEVENT
UID:20260424T093317Z-7452238671367924065@eventfrog.de
DTSTAMP:20260424T093317Z
DTSTART:20260930T180000Z
DTEND:20260930T200000Z
SUMMARY:POWERPOINT KARAOKE
DESCRIPTION:Fabian Rütsche und Benjamin Heutschi improvisieren PowerPoint-Karaoke im Theater Stuhlfabrik Herisau, Türöffnung 19.00 Uhr.\n\nhttps://eventfrog.de/de/p/theater-buehne/buehnenveranstaltung/powerpoint-karaoke-7452238671367924065.html
LOCATION:Stuhlfabrik Herisau
GEO:47.387798;9.284961
URL:https://eventfrog.de/de/p/theater-buehne/buehnenveranstaltung/powerpoint-karaoke-7452238671367924065.html
END:VEVENT
END:VCALENDAR