BEGIN:VCALENDAR
VERSION:2.0
PRODID:EVENTFROG//EVENT//ICAL
BEGIN:VEVENT
UID:20260422T004048Z-7452250288390448268@eventfrog.de
DTSTAMP:20260422T004048Z
DTSTART:20260523T080000Z
DTEND:20260524T160000Z
SUMMARY:LEVEL UP - The Gaming Festival
DESCRIPTION:Am 23. und 24. Mai 2026 wird das Messezentrum Salzburg erneut zum Hotspot für Gaming, eSports und Cosplay bei LEVEL UP - The Gaming Festival. \n\nhttps://eventfrog.de/de/p/diverses/level-up-the-gaming-festival-7452250288390448268.html
LOCATION:Messezentrum Salzburg
GEO:47.824807;13.027093
URL:https://eventfrog.de/de/p/diverses/level-up-the-gaming-festival-7452250288390448268.html
END:VEVENT
END:VCALENDAR