BEGIN:VCALENDAR
VERSION:2.0
PRODID:EVENTFROG//EVENT//ICAL
BEGIN:VEVENT
UID:20260424T234048Z-7452252131522830053@eventfrog.de
DTSTAMP:20260424T234048Z
DTSTART:20261021T180000Z
SUMMARY:Charles Nguela - Timing
DESCRIPTION:Timing is everything. Nicht nur auf der Bühne, sondern auch im Leben.\n\n\nhttps://eventfrog.de/de/p/theater-buehne/comedy-kabarett/charles-nguela-timing-7452252131522830053.html
LOCATION:Theater Fauteuil
GEO:47.557349;7.586407
URL:https://eventfrog.de/de/p/theater-buehne/comedy-kabarett/charles-nguela-timing-7452252131522830053.html
END:VEVENT
END:VCALENDAR