BEGIN:VCALENDAR
VERSION:2.0
PRODID:EVENTFROG//EVENT//ICAL
BEGIN:VEVENT
UID:20260422T152943Z-7452253080119196130@eventfrog.de
DTSTAMP:20260422T152943Z
DTSTART:20261016T160000Z
DTEND:20261016T200000Z
SUMMARY:Metzgete Hütten Zug
DESCRIPTION:Die legendären Metzgete-Wochen des ehemaligen Bären. Das war nichts für halbherzige Esser.\n\n\nhttps://eventfrog.de/de/p/essen-trinken/metzgete-huetten-zug-7452253080119196130.html
LOCATION:aigu Restaurant & Bar
GEO:47.172359;8.518966
URL:https://eventfrog.de/de/p/essen-trinken/metzgete-huetten-zug-7452253080119196130.html
END:VEVENT
END:VCALENDAR