BEGIN:VCALENDAR
VERSION:2.0
PRODID:EVENTFROG//EVENT//ICAL
BEGIN:VEVENT
UID:20260422T152946Z-7452253107512198331@eventfrog.de
DTSTAMP:20260422T152946Z
DTSTART:20261024T160000Z
DTEND:20261024T200000Z
SUMMARY:Metzgete Hütten Zug
DESCRIPTION:Die legendären Metzgete-Wochen des ehemaligen Bären. Das war nichts für halbherzige Esser.\n\n\nhttps://eventfrog.de/de/p/essen-trinken/metzgete-huetten-zug-7452253107512198331.html
LOCATION:aigu Restaurant & Bar
GEO:47.172359;8.518966
URL:https://eventfrog.de/de/p/essen-trinken/metzgete-huetten-zug-7452253107512198331.html
END:VEVENT
END:VCALENDAR