BEGIN:VCALENDAR
VERSION:2.0
PRODID:EVENTFROG//EVENT//ICAL
BEGIN:VEVENT
UID:20260421T134252Z-7452257471425416901@eventfrog.de
DTSTAMP:20260421T134252Z
DTSTART:20260528T083000Z
DTEND:20260528T093000Z
SUMMARY:Wohnzimmer Fitness - wie du Bewegung in den Alltag mogelst
DESCRIPTION:Der Workshop vermittelt einfache Übungen für mehr Bewegung im Alltag, ganz ohne Sportgeräte und Vorkenntnisse.\n\nhttps://eventfrog.de/de/p/kurse-seminare/sport-fitness/wohnzimmer-fitness-wie-du-bewegung-in-den-alltag-mogelst-7452257471425416901.html
LOCATION:Kap Europa, Frankfurt am Main, DE, auf der der Sport & Musik Bühne
GEO:50.109966;8.653981
URL:https://eventfrog.de/de/p/kurse-seminare/sport-fitness/wohnzimmer-fitness-wie-du-bewegung-in-den-alltag-mogelst-7452257471425416901.html
END:VEVENT
END:VCALENDAR