BEGIN:VCALENDAR
VERSION:2.0
PRODID:EVENTFROG//EVENT//ICAL
BEGIN:VEVENT
UID:20260424T110832Z-7452259669324602663@eventfrog.de
DTSTAMP:20260424T110832Z
DTSTART:20261201T190000Z
DTEND:20261201T213000Z
SUMMARY:KWAM.E – DA IZZA WIEDER LIVE
DESCRIPTION:Kwam.E bringt seine rohe Live-Energie zurück auf die Bühne und steht für authentischen Hamburger Strassenrap.\n\nhttps://eventfrog.de/de/p/konzerte/hip-hop-rap/kwam-e-da-izza-wieder-live-7452259669324602663.html
LOCATION:Bierhübeli
GEO:46.956272;7.437862
URL:https://eventfrog.de/de/p/konzerte/hip-hop-rap/kwam-e-da-izza-wieder-live-7452259669324602663.html
END:VEVENT
END:VCALENDAR