BEGIN:VCALENDAR
VERSION:2.0
PRODID:EVENTFROG//EVENT//ICAL
BEGIN:VEVENT
UID:20260424T094052Z-7452260104659827661@eventfrog.de
DTSTAMP:20260424T094052Z
DTSTART:20260603T170000Z
DTEND:20260603T210000Z
SUMMARY:TOWL: "The lord of the Rings: The Fellowship of the Ring"
DESCRIPTION:Die Wiler Community hat entschieden ️! Aus der THE ONES WE LOVE CLASSIC-Filmreihe zeigen wir THE LORD OF THE RINGS: THE FELLOWSHIP OF THE RING von Peter Jackson aus dem Jahr 2001. \n\nhttps://eventfrog.de/de/p/freizeit-ausfluege/film-kino/towl-the-lord-of-the-rings-the-fellowship-of-the-ring-7452260104659827661.html
LOCATION:Cinewil
GEO:47.463280;9.041600
URL:https://eventfrog.de/de/p/freizeit-ausfluege/film-kino/towl-the-lord-of-the-rings-the-fellowship-of-the-ring-7452260104659827661.html
END:VEVENT
END:VCALENDAR