BEGIN:VCALENDAR
VERSION:2.0
PRODID:EVENTFROG//EVENT//ICAL
BEGIN:VEVENT
UID:20260424T093205Z-7452261853860727645@eventfrog.de
DTSTAMP:20260424T093205Z
DTSTART:20260523T180000Z
DTEND:20260523T230000Z
SUMMARY:Feel the Beat am Rorschacherberg
DESCRIPTION:DJane Marleen (Muc) wird die diesjährige Sommersaion der G5 Bar eröffnen. Geniesse den unvergesslichen Sonnenuntergang mit feinsten House und Dance Beats mit Blick auf den See! Kostenloser Eintritt! A\n\nhttps://eventfrog.de/de/p/partys/house-techno/feel-the-beat-am-rorschacherberg-7452261853860727645.html
LOCATION:G5 Bar
GEO:47.477394;9.514819
URL:https://eventfrog.de/de/p/partys/house-techno/feel-the-beat-am-rorschacherberg-7452261853860727645.html
END:VEVENT
END:VCALENDAR