BEGIN:VCALENDAR
VERSION:2.0
PRODID:EVENTFROG//EVENT//ICAL
BEGIN:VEVENT
UID:20260421T180615Z-7452264698882348952@eventfrog.de
DTSTAMP:20260421T180615Z
DTSTART:20260528T123000Z
DTEND:20260528T130000Z
SUMMARY:NICHT MIT DIR: Befreiung aus Festhaltern und Umklammerungen
DESCRIPTION:Juan „Blind-Panda“ zeigt praxisorientierte Techniken zur Befreiung aus Festhaltern am 28.05.2026, 14:30, kostenfreier Vortrag vor Ort.\n\nhttps://eventfrog.de/de/p/kurse-seminare/sonstige-kurse-seminare/nicht-mit-dir-befreiung-aus-festhaltern-und-umklammerungen-7452264698882348952.html
LOCATION:Kap Europa, Frankfurt am Main, DE, auf der der Sport & Musik Bühne
GEO:50.109966;8.653981
URL:https://eventfrog.de/de/p/kurse-seminare/sonstige-kurse-seminare/nicht-mit-dir-befreiung-aus-festhaltern-und-umklammerungen-7452264698882348952.html
END:VEVENT
END:VCALENDAR