BEGIN:VCALENDAR
VERSION:2.0
PRODID:EVENTFROG//EVENT//ICAL
BEGIN:VEVENT
UID:20260424T094214Z-7452271299395585098@eventfrog.de
DTSTAMP:20260424T094214Z
DTSTART:20260508T080000Z
DTEND:20260509T030000Z
SUMMARY:FRIDAY BASH
DESCRIPTION:\nJoin us for an epic night of non-stop music, dancing, and good vibes!\nbringing the original reggae dancehall vibes back to the club\n\nhttps://eventfrog.de/en/p/parties/dancehall/friday-bash-7452271299395585098.html
LOCATION:CAVE CLUB
GEO:47.377700;8.526365
URL:https://eventfrog.de/en/p/parties/dancehall/friday-bash-7452271299395585098.html
END:VEVENT
END:VCALENDAR