BEGIN:VCALENDAR
VERSION:2.0
PRODID:EVENTFROG//EVENT//ICAL
BEGIN:VEVENT
UID:20260422T004048Z-7452271706633175806@eventfrog.de
DTSTAMP:20260422T004048Z
DTSTART:20260428T170000Z
DTEND:20260428T190000Z
SUMMARY:Hard Rock Cafe Silent Quiz
DESCRIPTION:Im Hard Rock Cafe findet ein Musikquiz mit Silent-Kopfhörern statt, bei dem Teams oder Solo mit Smartphone buzzern.\n\nhttps://eventfrog.de/de/p/diverses/hard-rock-cafe-silent-quiz-7452271706633175806.html
LOCATION:Hard Rock Cafe Berlin
GEO:52.503071;13.329569
URL:https://eventfrog.de/de/p/diverses/hard-rock-cafe-silent-quiz-7452271706633175806.html
END:VEVENT
END:VCALENDAR