BEGIN:VCALENDAR
VERSION:2.0
PRODID:EVENTFROG//EVENT//ICAL
BEGIN:VEVENT
UID:20260424T065635Z-7452271824174359560@eventfrog.de
DTSTAMP:20260424T065635Z
DTSTART:20260602T150000Z
DTEND:20260602T160000Z
SUMMARY:ATTACCA – «DROPS» – Carmel Curiel
DESCRIPTION:Das Konzert «Drops» untersucht die musikalischen und konzeptionellen Dimensionen des Fallens und die Spannung der Schwerkraft.\n\nhttps://eventfrog.de/de/p/konzerte/weitere-musikrichtungen/attacca-drops-carmel-curiel-7452271824174359560.html
LOCATION:Gare du Nord – Bahnhof für Neue Musik
GEO:47.567389;7.607131
URL:https://eventfrog.de/de/p/konzerte/weitere-musikrichtungen/attacca-drops-carmel-curiel-7452271824174359560.html
END:VEVENT
END:VCALENDAR