BEGIN:VCALENDAR
VERSION:2.0
PRODID:EVENTFROG//EVENT//ICAL
BEGIN:VEVENT
UID:20260421T151846Z-7452271876418612364@eventfrog.de
DTSTAMP:20260421T151846Z
DTSTART:20260703T150000Z
SUMMARY:20 Jahre Junges Kolleg
DESCRIPTION:20 Jahre Junges Kolleg: Ein Jubiläum für Wissenschaft, Kunst und neue Perspektiven\n\nhttps://eventfrog.de/de/p/wissenschaft-und-technik/20-jahre-junges-kolleg-7452271876418612364.html
LOCATION:Nordrhein-Westfälische Akademie der Wissenschaften und der Künste
GEO:51.209491;6.771480
URL:https://eventfrog.de/de/p/wissenschaft-und-technik/20-jahre-junges-kolleg-7452271876418612364.html
END:VEVENT
END:VCALENDAR