BEGIN:VCALENDAR
VERSION:2.0
PRODID:EVENTFROG//EVENT//ICAL
BEGIN:VEVENT
UID:20260421T134303Z-7452272270007863436@eventfrog.de
DTSTAMP:20260421T134303Z
DTSTART:20260528T150000Z
DTEND:20260528T160000Z
SUMMARY:Fitnessboxen - Power-Workout zum Durchboxen
DESCRIPTION:Der Workshop zeigt, wie Fitnessboxen blinden und sehbehinderten Menschen mit klarer Anleitung Kraft und Selbstbewusstsein stärkt.\n\nhttps://eventfrog.de/de/p/kurse-seminare/sport-fitness/fitnessboxen-power-workout-zum-durchboxen-7452272270007863436.html
LOCATION:Kap Europa, Frankfurt am Main, DE, auf der der Sport & Musik Bühne
GEO:50.109966;8.653981
URL:https://eventfrog.de/de/p/kurse-seminare/sport-fitness/fitnessboxen-power-workout-zum-durchboxen-7452272270007863436.html
END:VEVENT
END:VCALENDAR