BEGIN:VCALENDAR
VERSION:2.0
PRODID:EVENTFROG//EVENT//ICAL
BEGIN:VEVENT
UID:20260421T151752Z-7452275147996668177@eventfrog.de
DTSTAMP:20260421T151752Z
DTSTART:20260724T150000Z
DTEND:20260725T020000Z
SUMMARY:2-Tagespass - Musiwiesn Mogersdorf
DESCRIPTION:Ab 17 Uhr spielen regionale Musikvereine, ab 21:30 Uhr steigt das Dirndlspringen mit Oberkrainer Power und Party.\n\nhttps://eventfrog.de/de/p/volksfeste/sonstige-feste/2-tagespass-musiwiesn-mogersdorf-7452275147996668177.html
LOCATION:Festzelt am Sportplatz in Mogersdorf
GEO:46.947562;16.236563
URL:https://eventfrog.de/de/p/volksfeste/sonstige-feste/2-tagespass-musiwiesn-mogersdorf-7452275147996668177.html
END:VEVENT
END:VCALENDAR