BEGIN:VCALENDAR
VERSION:2.0
PRODID:EVENTFROG//EVENT//ICAL
BEGIN:VEVENT
UID:20260424T105826Z-7452275448711501377@eventfrog.de
DTSTAMP:20260424T105826Z
DTSTART:20260605T180000Z
DTEND:20260605T180000Z
SUMMARY:SOMMERBÜHNE: NINA ULLI, GORAN KOVACEVIC. «GIPSY SERENADE»
DESCRIPTION:Nina Ulli und Goran Kovačević verzaubern mit Geige und Akkordeon in einem leidenschaftlichen Programm voller Vielfalt und Ausdruck.\n\nhttps://eventfrog.de/de/p/konzerte/weitere-musikrichtungen/sommerbuehne-nina-ulli-goran-kovacevic-gipsy-serenade-7452275448711501377.html
LOCATION:Schloss Wartegg
GEO:47.478425;9.530131
URL:https://eventfrog.de/de/p/konzerte/weitere-musikrichtungen/sommerbuehne-nina-ulli-goran-kovacevic-gipsy-serenade-7452275448711501377.html
END:VEVENT
END:VCALENDAR