BEGIN:VCALENDAR
VERSION:2.0
PRODID:EVENTFROG//EVENT//ICAL
BEGIN:VEVENT
UID:20260424T065635Z-7452276576098479738@eventfrog.de
DTSTAMP:20260424T065635Z
DTSTART:20260608T180000Z
DTEND:20260608T190000Z
SUMMARY:ATTACCA – Konzert 5: Zeitgenössische Interpretation Neue Mus
DESCRIPTION:Das Programm dieses Abends vereint Werke von Mirela Ivičević, Alessandro Perini, Julie Michael, Michael Gordon und Michael Beil und kombiniert Akustik mit Elektronik, Objekten und Performance.\n\nhttps://eventfrog.de/de/p/konzerte/weitere-musikrichtungen/attacca-konzert-5-zeitgenoessische-interpretation-neue-mus-7452276576098479738.html
LOCATION:Gare du Nord – Bahnhof für Neue Musik
GEO:47.567389;7.607131
URL:https://eventfrog.de/de/p/konzerte/weitere-musikrichtungen/attacca-konzert-5-zeitgenoessische-interpretation-neue-mus-7452276576098479738.html
END:VEVENT
END:VCALENDAR