BEGIN:VCALENDAR
VERSION:2.0
PRODID:EVENTFROG//EVENT//ICAL
BEGIN:VEVENT
UID:20260424T123655Z-7452278493767801970@eventfrog.de
DTSTAMP:20260424T123655Z
DTSTART:20260708T160000Z
DTEND:20260708T180000Z
SUMMARY:Einführung in Bitcoin - Seminar für Starter
DESCRIPTION:Workshop: Erlange Durchblick über Bitcoin, lerne kaufen, verkaufen und sich sicher bewegen im Bitcoin-Universum. Gratis Wallet und 10 CHF in Bitcoin. Ideal für Neulinge ab 10 Teilnehmern.\n\nhttps://eventfrog.de/de/p/kurse-seminare/wirtschaft/einfuehrung-in-bitcoin-seminar-fuer-starter-7452278493767801970.html
LOCATION:House of Satoshi
GEO:47.379944;8.527998
URL:https://eventfrog.de/de/p/kurse-seminare/wirtschaft/einfuehrung-in-bitcoin-seminar-fuer-starter-7452278493767801970.html
END:VEVENT
END:VCALENDAR