BEGIN:VCALENDAR
VERSION:2.0
PRODID:EVENTFROG//EVENT//ICAL
BEGIN:VEVENT
UID:20260424T105945Z-7452279632169011783@eventfrog.de
DTSTAMP:20260424T105945Z
DTSTART:20260430T164500Z
SUMMARY:Foto-Night-Walk 2026
DESCRIPTION:Du möchtest unbekannte Ecken von St.Gallen erkunden & neue Motive finden? \n\nhttps://eventfrog.de/de/p/diverses/foto-night-walk-2026-7452279632169011783.html
LOCATION:Haltestelle Appenzellerbahn 'Schwarzer Bären'
GEO:47.424563;9.374897
URL:https://eventfrog.de/de/p/diverses/foto-night-walk-2026-7452279632169011783.html
END:VEVENT
END:VCALENDAR