BEGIN:VCALENDAR
VERSION:2.0
PRODID:EVENTFROG//EVENT//ICAL
BEGIN:VEVENT
UID:20260424T184426Z-7452281511670198925@eventfrog.de
DTSTAMP:20260424T184426Z
DTSTART:20260503T090000Z
DTEND:20260503T110000Z
SUMMARY:Sonntagsmatinee im Colombischlössle
DESCRIPTION:Paula Schecker führt zu frühmittelalterlichen Gräbern, musikalisch begleitet von Roland Zipfel, mit anschliessendem Umtrunk.\n\nhttps://eventfrog.de/de/p/fuehrungen-vortraege/fuehrung/sonntagsmatinee-im-colombischloessle-7452281511670198925.html
LOCATION:Archäologisches Museum Colombischlössle
GEO:47.997749;7.846241
URL:https://eventfrog.de/de/p/fuehrungen-vortraege/fuehrung/sonntagsmatinee-im-colombischloessle-7452281511670198925.html
END:VEVENT
END:VCALENDAR