BEGIN:VCALENDAR
VERSION:2.0
PRODID:EVENTFROG//EVENT//ICAL
BEGIN:VEVENT
UID:20260424T065544Z-7452286507220499266@eventfrog.de
DTSTAMP:20260424T065544Z
DTSTART:20260430T174500Z
DTEND:20260430T184500Z
SUMMARY:Sunset Rooftop Stretching - Powerflex goes to Samigo
DESCRIPTION:Join a full-body stretch session with Powerflex Team on Samigo Rooftop, enjoy protein shakes and goodie bags. Limited spots!\n\nhttps://eventfrog.de/de/p/sport-fitness/fitness/sunset-rooftop-stretching-powerflex-goes-to-samigo-7452286507220499266.html
LOCATION:Samigo Amusement
GEO:47.358884;8.536944
URL:https://eventfrog.de/de/p/sport-fitness/fitness/sunset-rooftop-stretching-powerflex-goes-to-samigo-7452286507220499266.html
END:VEVENT
END:VCALENDAR