BEGIN:VCALENDAR
VERSION:2.0
PRODID:EVENTFROG//EVENT//ICAL
BEGIN:VEVENT
UID:20260424T093326Z-7452288349031691549@eventfrog.de
DTSTAMP:20260424T093326Z
DTSTART:20260711T180000Z
DTEND:20260711T190000Z
SUMMARY:SOMMERBÜHNE: BABA ROGA
DESCRIPTION:Baba Roga begeistert mit temperamentvoller Balkan-Musik, die zum Tanzen animiert und die Seele berührt.\n\nhttps://eventfrog.de/de/p/konzerte/world-ethno/sommerbuehne-baba-roga-7452288349031691549.html
LOCATION:Schloss Wartegg
GEO:47.478425;9.530131
URL:https://eventfrog.de/de/p/konzerte/world-ethno/sommerbuehne-baba-roga-7452288349031691549.html
END:VEVENT
END:VCALENDAR