BEGIN:VCALENDAR
VERSION:2.0
PRODID:EVENTFROG//EVENT//ICAL
BEGIN:VEVENT
UID:20260424T083920Z-7452289028324377471@eventfrog.de
DTSTAMP:20260424T083920Z
DTSTART:20260505T150000Z
DTEND:20260505T170000Z
SUMMARY:Sonos Kundenevent
DESCRIPTION:Am 5. Mai in Steffisburg Sonos Produkte testen und individuelle Beratung zu Multiroom-Systemen erleben, 17-19 Uhr.\n\nhttps://eventfrog.de/de/p/wissenschaft-und-technik/sonos-kundenevent-7452289028324377471.html
LOCATION:Huber Multimedia GmbH
GEO:46.779458;7.634146
URL:https://eventfrog.de/de/p/wissenschaft-und-technik/sonos-kundenevent-7452289028324377471.html
END:VEVENT
END:VCALENDAR