BEGIN:VCALENDAR
VERSION:2.0
PRODID:EVENTFROG//EVENT//ICAL
BEGIN:VEVENT
UID:20260424T101627Z-7452289258541295376@eventfrog.de
DTSTAMP:20260424T101627Z
DTSTART:20260718T180000Z
DTEND:20260718T190000Z
SUMMARY:SOMMERBÜHNE: Progrock Surprise Act
DESCRIPTION:Ein Surprise Act sorgt für einen kraftvollen und feinsinnigen Tanzabend auf der Sommerbühne.\n\nhttps://eventfrog.de/de/p/konzerte/pop-rock/sommerbuehne-progrock-surprise-act-7452289258541295376.html
LOCATION:Schloss Wartegg
GEO:47.478425;9.530131
URL:https://eventfrog.de/de/p/konzerte/pop-rock/sommerbuehne-progrock-surprise-act-7452289258541295376.html
END:VEVENT
END:VCALENDAR