BEGIN:VCALENDAR
VERSION:2.0
PRODID:EVENTFROG//EVENT//ICAL
BEGIN:VEVENT
UID:20260424T100636Z-7452294279974645621@eventfrog.de
DTSTAMP:20260424T100636Z
DTSTART:20260506T052000Z
SUMMARY:Wanderung Pro Senectute
DESCRIPTION:Aber bitte mit Saane. Wanderung vom Städtchen Laupen zum Schloss Münchenwiler und weiter bis Murten\n\nhttps://eventfrog.de/de/p/freizeit-ausfluege/wanderung/wanderung-pro-senectute-7452294279974645621.html
LOCATION:Bahnhofplatz Zofingen
GEO:47.288170;7.943649
URL:https://eventfrog.de/de/p/freizeit-ausfluege/wanderung/wanderung-pro-senectute-7452294279974645621.html
END:VEVENT
END:VCALENDAR