BEGIN:VCALENDAR
VERSION:2.0
PRODID:EVENTFROG//EVENT//ICAL
BEGIN:VEVENT
UID:20260421T134138Z-7452298263548457327@eventfrog.de
DTSTAMP:20260421T134138Z
DTSTART:20260529T114500Z
DTEND:20260529T121500Z
SUMMARY:Sport als Schlüssel zur Selbstbestimmung im Alltag"
DESCRIPTION:Der Vortrag zeigt, wie Sport die Unabhängigkeit und Mobilität für blinde und sehbehinderte Menschen stärkt und das Selbstvertrauen fördert.\n\nhttps://eventfrog.de/de/p/kurse-seminare/sport-fitness/sport-als-schluessel-zur-selbstbestimmung-im-alltag-7452298263548457327.html
LOCATION:Kap Eurpa, Frankfurt a.M. , auf der Sport & Musik Bühne
GEO:50.109966;8.653981
URL:https://eventfrog.de/de/p/kurse-seminare/sport-fitness/sport-als-schluessel-zur-selbstbestimmung-im-alltag-7452298263548457327.html
END:VEVENT
END:VCALENDAR