BEGIN:VCALENDAR
VERSION:2.0
PRODID:EVENTFROG//EVENT//ICAL
BEGIN:VEVENT
UID:20260424T071638Z-7452299939231588094@eventfrog.de
DTSTAMP:20260424T071638Z
DTSTART:20260530T103000Z
DTEND:20260530T120000Z
SUMMARY:Nourishing Your Inner Seasons: A Cycle-Supportive Lunch
DESCRIPTION:Alex Plaza führt mit einem veganen Lunch in zyklische Ernährung ein, unterstützt Energie, Stimmung und Hormone im Menstrual Festival Zürich.\n\nhttps://eventfrog.de/en/p/health-spirituality/healthy-diet/nourishing-your-inner-seasons-a-cycle-supportive-lunch-7452299939231588094.html
LOCATION:Labör
GEO:47.410852;8.538635
URL:https://eventfrog.de/en/p/health-spirituality/healthy-diet/nourishing-your-inner-seasons-a-cycle-supportive-lunch-7452299939231588094.html
END:VEVENT
END:VCALENDAR