BEGIN:VCALENDAR
VERSION:2.0
PRODID:EVENTFROG//EVENT//ICAL
BEGIN:VEVENT
UID:20260424T092400Z-7452300374533261947@eventfrog.de
DTSTAMP:20260424T092400Z
DTSTART:20260529T080000Z
DTEND:20260530T030000Z
SUMMARY:FRIDAY BASH
DESCRIPTION:\n"Get ready to mash up the Dancehall vibes!\n\nJoin us at Cave Club Langstrasse, Zürich for a night of non-stop dancing to the hottest tracks \n\n Dancehall madness\n Good vibes only\n\n\nhttps://eventfrog.de/en/p/parties/dancehall/friday-bash-7452300374533261947.html
LOCATION:CAVE CLUB
GEO:47.377700;8.526365
URL:https://eventfrog.de/en/p/parties/dancehall/friday-bash-7452300374533261947.html
END:VEVENT
END:VCALENDAR