BEGIN:VCALENDAR
VERSION:2.0
PRODID:EVENTFROG//EVENT//ICAL
BEGIN:VEVENT
UID:20260424T195837Z-7452300401624277268@eventfrog.de
DTSTAMP:20260424T195837Z
DTSTART:20260711T090000Z
DTEND:20260711T100000Z
SUMMARY:Öffentliche Museumsführung
DESCRIPTION:Bereichern Sie Ihren Museumsbesuch mit einer faszinierenden Führung und entdecken Sie spannende Hintergründe.\n\n\n\nhttps://eventfrog.de/de/p/freizeit-ausfluege/ausflug/oeffentliche-museumsfuehrung-7452300401624277268.html
LOCATION:Museum Der Kleine Prinz und seine Welt
GEO:47.206886;7.538773
URL:https://eventfrog.de/de/p/freizeit-ausfluege/ausflug/oeffentliche-museumsfuehrung-7452300401624277268.html
END:VEVENT
END:VCALENDAR