BEGIN:VCALENDAR
VERSION:2.0
PRODID:EVENTFROG//EVENT//ICAL
BEGIN:VEVENT
UID:20260424T195812Z-7452300403511714133@eventfrog.de
DTSTAMP:20260424T195812Z
DTSTART:20261219T100000Z
DTEND:20261219T110000Z
SUMMARY:Öffentliche Museumsführung
DESCRIPTION:Bereichern Sie Ihren Museumsbesuch mit einer faszinierenden Führung und entdecken Sie spannende Hintergründe.\n\n\n\nhttps://eventfrog.de/de/p/freizeit-ausfluege/ausflug/oeffentliche-museumsfuehrung-7452300403511714133.html
LOCATION:Museum Der Kleine Prinz und seine Welt
GEO:47.206886;7.538773
URL:https://eventfrog.de/de/p/freizeit-ausfluege/ausflug/oeffentliche-museumsfuehrung-7452300403511714133.html
END:VEVENT
END:VCALENDAR