BEGIN:VCALENDAR
VERSION:2.0
PRODID:EVENTFROG//EVENT//ICAL
BEGIN:VEVENT
UID:20260421T134202Z-7452302068214155335@eventfrog.de
DTSTAMP:20260421T134202Z
DTSTART:20260529T124500Z
DTEND:20260529T133000Z
SUMMARY:HAU DRAUF: Pratzentraining
DESCRIPTION:Beim Pratzentraining mit Juan ‚Blind-Panda‘ übst du Schläge und Tritte an Schlagpolstern und entdeckst deine Kraft.\n\nhttps://eventfrog.de/de/p/kurse-seminare/sport-fitness/hau-drauf-pratzentraining-7452302068214155335.html
LOCATION:Kap Eurpa, Frankfurt a.M. , auf der Sport & Musik Bühne
GEO:50.109966;8.653981
URL:https://eventfrog.de/de/p/kurse-seminare/sport-fitness/hau-drauf-pratzentraining-7452302068214155335.html
END:VEVENT
END:VCALENDAR