BEGIN:VCALENDAR
VERSION:2.0
PRODID:EVENTFROG//EVENT//ICAL
BEGIN:VEVENT
UID:20260424T093318Z-7452304239169128654@eventfrog.de
DTSTAMP:20260424T093318Z
DTSTART:20260529T190000Z
DTEND:20260530T010000Z
SUMMARY:Party Next Door Vol. 2
DESCRIPTION:Alice und Asmin laden zur Birthday & Last Day of School Party mit 90s bis Drum’n’Bass im Treibhaus, Start 21 Uhr.\n\nhttps://eventfrog.de/de/p/partys/00-s/party-next-door-vol-2-7452304239169128654.html
LOCATION:Treibhaus Luzern
GEO:47.042470;8.319226
URL:https://eventfrog.de/de/p/partys/00-s/party-next-door-vol-2-7452304239169128654.html
END:VEVENT
END:VCALENDAR