BEGIN:VCALENDAR
VERSION:2.0
PRODID:EVENTFROG//EVENT//ICAL
BEGIN:VEVENT
UID:20260422T015906Z-7452304447114346430@eventfrog.de
DTSTAMP:20260422T015906Z
DTSTART:20261001T170000Z
DTEND:20261001T183000Z
SUMMARY:Gysis Begegnungen - Eva Szepesi - Dr. Josef Schuster
DESCRIPTION:Am 1.10. diskutiert Gregor Gysi mit Holocaust-Überlebender Eva Szepesi und Dr. Josef Schuster im Uni Münster Hörsaal H1.\n\nhttps://eventfrog.de/de/p/politik-gemeinde/gemeinde/gysis-begegnungen-eva-szepesi-dr-josef-schuster-7452304447114346430.html
LOCATION:Westfälische Wilhelms-Universität Münster / Hörsaal H1
GEO:51.962708;7.618084
URL:https://eventfrog.de/de/p/politik-gemeinde/gemeinde/gysis-begegnungen-eva-szepesi-dr-josef-schuster-7452304447114346430.html
END:VEVENT
END:VCALENDAR