BEGIN:VCALENDAR
VERSION:2.0
PRODID:EVENTFROG//EVENT//ICAL
BEGIN:VEVENT
UID:20260424T083753Z-7452306150907745452@eventfrog.de
DTSTAMP:20260424T083753Z
DTSTART:20260508T180000Z
DTEND:20260508T200000Z
SUMMARY:jackson brown. an album by Otis Gray - Listening Party
DESCRIPTION:Wir feiern den Sound von jackson brown. Ein Hip-Hop Album, in dem wir eine authentische und introspektive Darbietung von dem Künstler Otis Gray erfahren. \n\n\nhttps://eventfrog.de/de/p/konzerte/hip-hop-rap/jackson-brown-an-album-by-otis-gray-listening-party-7452306150907745452.html
LOCATION:L200
GEO:47.382376;8.529868
URL:https://eventfrog.de/de/p/konzerte/hip-hop-rap/jackson-brown-an-album-by-otis-gray-listening-party-7452306150907745452.html
END:VEVENT
END:VCALENDAR