BEGIN:VCALENDAR
VERSION:2.0
PRODID:EVENTFROG//EVENT//ICAL
BEGIN:VEVENT
UID:20260425T125159Z-7452310320570198706@eventfrog.de
DTSTAMP:20260425T125159Z
DTSTART:20260918T181500Z
SUMMARY:7 auf einen Streich! – Esther Hasler
DESCRIPTION:Esther Hasler zeigt ihr 7. Solo mit frechem, schwarzhumorigem Klavierkabarett, das Leben, Liebe und Freiheit feiert.\n\nhttps://eventfrog.de/de/p/theater-buehne/comedy-kabarett/7-auf-einen-streich-esther-hasler-7452310320570198706.html
LOCATION:Kellerpoche, Theater am Stalden
GEO:46.804220;7.166205
URL:https://eventfrog.de/de/p/theater-buehne/comedy-kabarett/7-auf-einen-streich-esther-hasler-7452310320570198706.html
END:VEVENT
END:VCALENDAR