BEGIN:VCALENDAR
VERSION:2.0
PRODID:EVENTFROG//EVENT//ICAL
BEGIN:VEVENT
UID:20260424T164319Z-7452312004839134554@eventfrog.de
DTSTAMP:20260424T164319Z
DTSTART:20260530T090000Z
DTEND:20260530T103000Z
SUMMARY:Shuffle Anfänger-Workshop
DESCRIPTION:Shuffle Tanz-Workshop für Anfänger in Düsseldorf – lerne die Basics und tanze sicher zu elektronischer Musik.\n\nhttps://eventfrog.de/de/p/sport-fitness/tanzsport/shuffle-anfaenger-workshop-7452312004839134554.html
LOCATION:Gleiswerk
GEO:51.162609;6.878115
URL:https://eventfrog.de/de/p/sport-fitness/tanzsport/shuffle-anfaenger-workshop-7452312004839134554.html
END:VEVENT
END:VCALENDAR