BEGIN:VCALENDAR
VERSION:2.0
PRODID:EVENTFROG//EVENT//ICAL
BEGIN:VEVENT
UID:20260424T101833Z-7452322940371100694@eventfrog.de
DTSTAMP:20260424T101833Z
DTSTART:20260518T220100Z
DTEND:20260519T215900Z
SUMMARY:Spott und Disput – Spaziergang 500 Jahre Badener Disputation
DESCRIPTION:Zehn Informationsstelen an verschiedenen Orten in Baden vermitteln spannende Fakten zur Badener Disputation von 1526.\n\nhttps://eventfrog.de/de/p/freizeit-ausfluege/wanderung/spott-und-disput-spaziergang-500-jahre-badener-disputation-7452322940371100694.html
LOCATION:Baden
GEO:47.468505;8.297217
URL:https://eventfrog.de/de/p/freizeit-ausfluege/wanderung/spott-und-disput-spaziergang-500-jahre-badener-disputation-7452322940371100694.html
END:VEVENT
END:VCALENDAR