BEGIN:VCALENDAR
VERSION:2.0
PRODID:EVENTFROG//EVENT//ICAL
BEGIN:VEVENT
UID:20260424T083801Z-7452325982306847090@eventfrog.de
DTSTAMP:20260424T083801Z
DTSTART:20260620T130000Z
DTEND:20260621T010000Z
SUMMARY:RHYLECTRIC - DAYDANCE AM ALTEN RHEIN
DESCRIPTION:Mit RHYLECTRIC kehrt der Daydance zurück nach Diepoldsau.\nWas am Nachmittag beginnt, entwickelt sich Stunde für Stunde weiter – bis aus guten Vibes eine Nacht wird, aus der man nicht mehr raus will!  \n\nhttps://eventfrog.de/de/p/partys/house-techno/rhylectric-daydance-am-alten-rhein-7452325982306847090.html
LOCATION:Sportplatz Rheinauen
GEO:47.382420;9.670221
URL:https://eventfrog.de/de/p/partys/house-techno/rhylectric-daydance-am-alten-rhein-7452325982306847090.html
END:VEVENT
END:VCALENDAR