BEGIN:VCALENDAR
VERSION:2.0
PRODID:EVENTFROG//EVENT//ICAL
BEGIN:VEVENT
UID:20260425T121943Z-7452326607417513331@eventfrog.de
DTSTAMP:20260425T121943Z
DTSTART:20260627T180000Z
DTEND:20260627T193000Z
SUMMARY:YOU
DESCRIPTION:Das Tanztheater YOU erforscht magische Lebensmomente und stellt tiefgehende Fragen zu Identität und Gemeinschaft.\n\nhttps://eventfrog.de/de/p/theater-buehne/tanz/you-7452326607417513331.html
LOCATION:Pfefferberg Theater
GEO:52.552475;13.414025
URL:https://eventfrog.de/de/p/theater-buehne/tanz/you-7452326607417513331.html
END:VEVENT
END:VCALENDAR