BEGIN:VCALENDAR
VERSION:2.0
PRODID:EVENTFROG//EVENT//ICAL
BEGIN:VEVENT
UID:20260424T073055Z-7452333006826557562@eventfrog.de
DTSTAMP:20260424T073055Z
DTSTART:20260606T130000Z
DTEND:20260606T143000Z
SUMMARY:Stadtspaziergang Andernach
DESCRIPTION:Gästeführung durch das historische Andernach\n\nhttps://eventfrog.de/de/p/fuehrungen-vortraege/stadtfuehrung/stadtspaziergang-andernach-7452333006826557562.html
LOCATION:Tourist-Information Andernach
GEO:50.439492;7.400656
URL:https://eventfrog.de/de/p/fuehrungen-vortraege/stadtfuehrung/stadtspaziergang-andernach-7452333006826557562.html
END:VEVENT
END:VCALENDAR