BEGIN:VCALENDAR
VERSION:2.0
PRODID:EVENTFROG//EVENT//ICAL
BEGIN:VEVENT
UID:20260424T074718Z-7452333008290369824@eventfrog.de
DTSTAMP:20260424T074718Z
DTSTART:20261003T130000Z
DTEND:20261003T143000Z
SUMMARY:Stadtspaziergang Andernach
DESCRIPTION:Gästeführung durch das historische Andernach\n\nhttps://eventfrog.de/de/p/fuehrungen-vortraege/stadtfuehrung/stadtspaziergang-andernach-7452333008290369824.html
LOCATION:Tourist-Information Andernach
GEO:50.439492;7.400656
URL:https://eventfrog.de/de/p/fuehrungen-vortraege/stadtfuehrung/stadtspaziergang-andernach-7452333008290369824.html
END:VEVENT
END:VCALENDAR