BEGIN:VCALENDAR
VERSION:2.0
PRODID:EVENTFROG//EVENT//ICAL
BEGIN:VEVENT
UID:20260424T071532Z-7452338800649307983@eventfrog.de
DTSTAMP:20260424T071532Z
DTSTART:20261016T183000Z
SUMMARY:H2U Sessions mit «Eva Lynn»
DESCRIPTION:Feinsinnig, schräg und berührend\n\nhttps://eventfrog.de/de/p/konzerte/singer-songwriter/h2u-sessions-mit-eva-lynn-7452338800649307983.html
LOCATION:U-Boot Bar
GEO:47.350395;8.712071
URL:https://eventfrog.de/de/p/konzerte/singer-songwriter/h2u-sessions-mit-eva-lynn-7452338800649307983.html
END:VEVENT
END:VCALENDAR