BEGIN:VCALENDAR
VERSION:2.0
PRODID:EVENTFROG//EVENT//ICAL
BEGIN:VEVENT
UID:20260421T180722Z-7452340579327839801@eventfrog.de
DTSTAMP:20260421T180722Z
DTSTART:20260424T150000Z
DTEND:20260424T160000Z
SUMMARY:Kundgebung: Erneuerbare Energien verteidigen!
DESCRIPTION:Fridays for Future Koblenz demonstriert mit Klimabündnis und BUND am 24.4., 17 Uhr am Löhrrondell für Gasausstieg und eine konsequente Energiewende. \n\nhttps://eventfrog.de/de/p/diverses/kundgebung-erneuerbare-energien-verteidigen-7452340579327839801.html
LOCATION:Löhrrondell
GEO:50.357146;7.591608
URL:https://eventfrog.de/de/p/diverses/kundgebung-erneuerbare-energien-verteidigen-7452340579327839801.html
END:VEVENT
END:VCALENDAR