BEGIN:VCALENDAR
VERSION:2.0
PRODID:EVENTFROG//EVENT//ICAL
BEGIN:VEVENT
UID:20260424T083620Z-7452354328570889378@eventfrog.de
DTSTAMP:20260424T083620Z
DTSTART:20260528T150000Z
DTEND:20260528T180000Z
SUMMARY:Mindfullness,chronic stress, and self-hypnosis
DESCRIPTION:Why mindfulness can't fix chronic stress – and how self-hypnosis keeps you performing under pressure.\n\nhttps://eventfrog.de/en/p/health-spirituality/health-wellbeing/mindfullness-chronic-stress-and-self-hypnosis-7452354328570889378.html
LOCATION:Weinbergstrasse 58
GEO:47.381712;8.544163
URL:https://eventfrog.de/en/p/health-spirituality/health-wellbeing/mindfullness-chronic-stress-and-self-hypnosis-7452354328570889378.html
END:VEVENT
END:VCALENDAR