BEGIN:VCALENDAR
VERSION:2.0
PRODID:EVENTFROG//EVENT//ICAL
BEGIN:VEVENT
UID:20260425T040856Z-7452374973392417939@eventfrog.de
DTSTAMP:20260425T040856Z
DTSTART:20260428T160000Z
DTEND:20260428T200000Z
SUMMARY:Kneipenquiz im Böhmischen Bürgergarten
DESCRIPTION:Kneipenquiz im schönen Herzen von Radebeul. \n\nhttps://eventfrog.de/de/p/diverses/kneipenquiz-im-boehmischen-buergergarten-7452374973392417939.html
LOCATION:Böhmischer Bürgergarten
GEO:51.105321;13.626121
URL:https://eventfrog.de/de/p/diverses/kneipenquiz-im-boehmischen-buergergarten-7452374973392417939.html
END:VEVENT
END:VCALENDAR