BEGIN:VCALENDAR
VERSION:2.0
PRODID:EVENTFROG//EVENT//ICAL
BEGIN:VEVENT
UID:20260424T102110Z-7452377546253929991@eventfrog.de
DTSTAMP:20260424T102110Z
DTSTART:20260508T210000Z
DTEND:20260509T030000Z
SUMMARY:Subset 360° @ D! Club, Lausanne
DESCRIPTION:Subset – the ultimate drum & bass experience\n\nhttps://eventfrog.de/de/p/partys/dubstep-d-n-b/subset-360-d-club-lausanne-7452377546253929991.html
LOCATION:D! Club Lausanne
GEO:46.520634;6.631631
URL:https://eventfrog.de/de/p/partys/dubstep-d-n-b/subset-360-d-club-lausanne-7452377546253929991.html
END:VEVENT
END:VCALENDAR